BEGIN:VCALENDAR
VERSION:2.0
PRODID:-//Tukios.com/
BEGIN:VEVENT
UID:8ce42a4b-f8d3-47f6-be41-25a22321ed08@www.hollypondfh.com
DTSTAMP:20260425T025918Z
DTSTART:20260427T170000Z
DTEND:20260427T190000Z
SUMMARY:Visitation
DESCRIPTION:
URL:https://www.hollypondfh.com/obituaries/jackie-needham
LOCATION:Holly Pond Funeral Home Chapel 161 Brooklyn Road  Holly Pond AL 
	35083
GEO:34.1769649;-86.6164834
END:VEVENT
END:VCALENDAR