BEGIN:VCALENDAR
VERSION:2.0
PRODID:-//Tukios.com/
BEGIN:VEVENT
UID:3b5c3183-3ac0-453f-81c8-a6462f8b9836@www.hollypondfh.com
DTSTAMP:20260425T025136Z
DTSTART:20260427T190000Z
DTEND:20260427T200000Z
SUMMARY:Funeral Service
DESCRIPTION:
URL:https://www.hollypondfh.com/obituaries/jackie-needham
LOCATION:Holly Pond Funeral Home Chapel 161 Brooklyn Road  Holly Pond AL 
	35083
GEO:34.1769649;-86.6164834
END:VEVENT
END:VCALENDAR